BEGIN:VCALENDAR
VERSION:2.0
PRODID:-//SEZAM - ECPv6.11.2.1//NONSGML v1.0//EN
CALSCALE:GREGORIAN
METHOD:PUBLISH
X-ORIGINAL-URL:https://www.sezam.sk
X-WR-CALDESC:Events for SEZAM
REFRESH-INTERVAL;VALUE=DURATION:PT1H
X-Robots-Tag:noindex
X-PUBLISHED-TTL:PT1H
BEGIN:VTIMEZONE
TZID:Europe/Bratislava
BEGIN:DAYLIGHT
TZOFFSETFROM:+0100
TZOFFSETTO:+0200
TZNAME:CEST
DTSTART:20200329T010000
END:DAYLIGHT
BEGIN:STANDARD
TZOFFSETFROM:+0200
TZOFFSETTO:+0100
TZNAME:CET
DTSTART:20201025T010000
END:STANDARD
END:VTIMEZONE
BEGIN:VEVENT
DTSTART;VALUE=DATE:20200406
DTEND;VALUE=DATE:20200407
DTSTAMP:20260424T003334
CREATED:20190906T081950Z
LAST-MODIFIED:20190906T114712Z
UID:186-1586131200-1586217599@www.sezam.sk
SUMMARY:Termín SEZAMka 2.séria
DESCRIPTION:
URL:https://www.sezam.sk/event/termin-sezamka-2-seria-2/
END:VEVENT
BEGIN:VEVENT
DTSTART;VALUE=DATE:20200406
DTEND;VALUE=DATE:20200407
DTSTAMP:20260424T003334
CREATED:20190906T082035Z
LAST-MODIFIED:20190906T114655Z
UID:188-1586131200-1586217599@www.sezam.sk
SUMMARY:Termín SEZAMu 2.séria
DESCRIPTION:
URL:https://www.sezam.sk/event/termin-sezamu-2-seria-2/
END:VEVENT
END:VCALENDAR