BEGIN:VCALENDAR
VERSION:2.0
PRODID:-//SEZAM - ECPv6.11.2.1//NONSGML v1.0//EN
CALSCALE:GREGORIAN
METHOD:PUBLISH
X-WR-CALNAME:SEZAM
X-ORIGINAL-URL:https://www.sezam.sk
X-WR-CALDESC:Events for SEZAM
REFRESH-INTERVAL;VALUE=DURATION:PT1H
X-Robots-Tag:noindex
X-PUBLISHED-TTL:PT1H
BEGIN:VTIMEZONE
TZID:Europe/Bratislava
BEGIN:DAYLIGHT
TZOFFSETFROM:+0100
TZOFFSETTO:+0200
TZNAME:CEST
DTSTART:20200329T010000
END:DAYLIGHT
BEGIN:STANDARD
TZOFFSETFROM:+0200
TZOFFSETTO:+0100
TZNAME:CET
DTSTART:20201025T010000
END:STANDARD
END:VTIMEZONE
BEGIN:VEVENT
DTSTART;VALUE=DATE:20200518
DTEND;VALUE=DATE:20200519
DTSTAMP:20260423T230934
CREATED:20190906T082228Z
LAST-MODIFIED:20190906T114638Z
UID:190-1589760000-1589846399@www.sezam.sk
SUMMARY:Termín SEZAMu 3.séria
DESCRIPTION:
URL:https://www.sezam.sk/event/termin-sezamu-3-seria-2/
END:VEVENT
BEGIN:VEVENT
DTSTART;VALUE=DATE:20200529
DTEND;VALUE=DATE:20200601
DTSTAMP:20260423T230934
CREATED:20190906T083322Z
LAST-MODIFIED:20190906T114623Z
UID:197-1590710400-1590969599@www.sezam.sk
SUMMARY:SEZAMko sústredenie
DESCRIPTION:
URL:https://www.sezam.sk/event/sezamko-sustredenie/
END:VEVENT
END:VCALENDAR